BEGIN:VCALENDAR
METHOD:PUBLISH
VERSION:2.0
PRODID:-//hacksw/handcal//NONSGML v1.0//EN
X-WR-TIMEZONE:Australia/Melbourne
CALSCALE:GREGORIAN
BEGIN:VEVENT
DTSTART;TZID=Australia/Melbourne:20260517T090000
DTEND;TZID=Australia/Melbourne:20260517T223000
UID:35348584386958D463048B4495205619123720045336958D463048BA18611477
DTSTAMP:20260420T125204
LOCATION:BP Calder Outbound
DESCRIPTION:Our Coffee and Cars monthly meet up is held on the third Sunda
 y of every month at the BP Calder Hwy Outbound car park. Here\'s a pleasan
 t and relaxed way to start a Sunday morning, get the car out for a run, ca
 tch up with fellow members and their much loved cars, grab a coffee and ta
 lk all things motoring. You will never know what you will see, as this is 
 a regular stop for a lot of classic car clubs on the way to their Sunday o
 utings.
URL;VALUE=URI:http://mradmc.com.au/events/view.php?id=35348584386958D46304
 8B4495205619123720045336958D463048BA18611477
SUMMARY:Coffee & Cars
END:VEVENT
END:VCALENDAR
